BEGIN:VCALENDAR
VERSION:2.0
PRODID:-//Persatuan Genetik Malaysia - ECPv5.15.0//NONSGML v1.0//EN
CALSCALE:GREGORIAN
METHOD:PUBLISH
X-WR-CALNAME:Persatuan Genetik Malaysia
X-ORIGINAL-URL:https://www.pgm-my.org
X-WR-CALDESC:Events for Persatuan Genetik Malaysia
BEGIN:VTIMEZONE
TZID:Asia/Shanghai
BEGIN:STANDARD
TZOFFSETFROM:+0800
TZOFFSETTO:+0800
TZNAME:CST
DTSTART:20060101T000000
END:STANDARD
END:VTIMEZONE
BEGIN:VEVENT
DTSTART;VALUE=DATE:20060105
DTEND;VALUE=DATE:20060106
DTSTAMP:20260422T181402
CREATED:20171205T035243Z
LAST-MODIFIED:20210209T075230Z
UID:7250-1136419200-1136505599@www.pgm-my.org
SUMMARY:Use of molecular marker techniques in onion breeding
DESCRIPTION:Dr. A.W. Sjaak van Heudsen (Plant Research International\, Wageningen\, the Netherlands) 2006
URL:https://www.pgm-my.org/event/use-of-molecular-marker-techniques-in-onion-breeding/
CATEGORIES:PGM Public Lectures
END:VEVENT
END:VCALENDAR