BEGIN:VCALENDAR
VERSION:2.0
PRODID:-//Persatuan Genetik Malaysia - ECPv5.15.0//NONSGML v1.0//EN
CALSCALE:GREGORIAN
METHOD:PUBLISH
X-WR-CALNAME:Persatuan Genetik Malaysia
X-ORIGINAL-URL:https://www.pgm-my.org
X-WR-CALDESC:Events for Persatuan Genetik Malaysia
BEGIN:VTIMEZONE
TZID:Asia/Shanghai
BEGIN:STANDARD
TZOFFSETFROM:+0800
TZOFFSETTO:+0800
TZNAME:CST
DTSTART:20060101T000000
END:STANDARD
END:VTIMEZONE
BEGIN:VEVENT
DTSTART;VALUE=DATE:20060101
DTEND;VALUE=DATE:20060102
DTSTAMP:20260424T163650
CREATED:20171205T040042Z
LAST-MODIFIED:20210209T075208Z
UID:7252-1136073600-1136159999@www.pgm-my.org
SUMMARY:Multilocusmicrosatellite haplotype sharing as a tool to estimate gene fl owand introgression in small population of endangered species
DESCRIPTION:Dr. Rene Smulders (Plant Research International\, Wageningen\, the Netherlands) 2006
URL:https://www.pgm-my.org/event/multilocusmicrosatellite-haplotype-sharing-as-a-tool-to-estimate-gene-fl-owand-introgression-in-small-population-of-endangered-species/
CATEGORIES:PGM Public Lectures
END:VEVENT
END:VCALENDAR